BEGIN:VCALENDAR
PRODID:NingEventWidget-v1
VERSION:2.0
METHOD:PUBLISH
BEGIN:VEVENT
UID:4320450:Event:51911
DTSTAMP:20260425T124852Z
SUMMARY:Blind Tiger
DESCRIPTION:Blind Tiger – An Immersive Burlesque Experience only at
  Hard Rock Café Philadelphia. Enjoy specialty menu & cocktail offerin
 gs, and sounds from DJ Dilemma in a speakeasy-inspired lounge from 10
 pm-2am. Get tix HERE.\n \n\nFor more information visit http://philly
 todo.com/events/blind-tiger
DTSTART:20170730T020000Z
DTEND:20170730T060000Z
CATEGORIES:nightlife, event
LOCATION:Hard Rock Cafe
WEBSITE:
URL:
CONTACT:215-238-1000
ORGANIZER:
ATTACH;FMTTYPE="image/jpeg":http://storage.ning.com/topology/rest/1.0/
 file/get/3055004154?profile=original
ATTENDEE;ROLE=REQ-PARTICIPANT;PARTSTAT=ACCEPTED;RSVP=TRUE;CN=CashmanAs
 soc:http://phillytodo.com/profile/CashmanAssoc
END:VEVENT
END:VCALENDAR
