BEGIN:VCALENDAR
PRODID:NingEventWidget-v1
VERSION:2.0
METHOD:PUBLISH
BEGIN:VEVENT
UID:4320450:Event:35124
DTSTAMP:20260425T142629Z
SUMMARY:Black-Tie GayBINGO!
DESCRIPTION:April 5 – Black-Tie GayBINGO! GayBINGO goes glam! At the
  gorgeous Crystal Tea Room, tickets $150 per person. For more informat
 ion, aidsfundphilly.org/events/btgaybingo.\n\n\nThis fun event is open
  to anyone who enjoys campy humor. Cash prizes will be awarded in each
  game.  Tickets for GayBINGO are on sale at 215-731-9255. \n \nGayB
 INGO was named Best of Philly (Gay Event), won PGN's Lambda Award for 
 Best Fundraiser, and was the subject of a popular WHYY documentary.  
 GayBINGO has also been featured in the LA Times, Washington Post, and 
 USA Today.  The event has raised over $2 million to date.  GayBINGO 
 sponsors are ING, Tavern on Camac, Starbucks, Philadelphia Weekly, and
  Philly AIDS Thrift.\n \nAIDS Fund produces a variety of fundraising 
 and awareness programs throughout the year, including AIDS Walk Philly
 , AIDS Run Philly, GayBINGO!, Black-Tie GayBINGO!, World AIDS Day, and
  Workplace Giving Campaigns.  The AIDS Fund grant program supports pa
 rtner organizations in the Philadelphia Region that provide AIDS and H
 IV-related services, education, and prevention including increasing pu
 blic awareness of HIV/AIDS issues.  AIDS Fund is also the Philadelphi
 a affiliate of The Names Project, curating panels of The AIDS Memorial
  Quilt for a local audience.  The 27th Annual AIDS Walk Philly will t
 ake place on Sunday, October 20, 2013. Contact AIDS Fund at 215-731-9
 255 or www.aidsfundphilly.org. Follow AIDS Fund on Facebook and Twitte
 r: www.facebook.com/AIDSWalkPhilly, www.facebook.com/gaybingophilly, a
 nd twitter.com/AIDSWalkPhilly.\n\nFor more information visit http://ph
 illytodo.com/events/black-tie-gaybingo
DTSTART:20140405T220000Z
DTEND:20140406T040000Z
CATEGORIES:special, event
LOCATION:Crystal Tea Room
WEBSITE:
URL:
CONTACT:215-731-9255
ORGANIZER;CN="Cari Feiler Bender":http://phillytodo.com/profile/CariFe
 ilerBender
ATTACH;FMTTYPE="image/jpeg":http://storage.ning.com/topology/rest/1.0/
 file/get/3054967562?profile=original
ATTENDEE;ROLE=REQ-PARTICIPANT;PARTSTAT=ACCEPTED;RSVP=TRUE;CN="Cari Fei
 ler Bender":http://phillytodo.com/profile/CariFeilerBender
END:VEVENT
END:VCALENDAR
