BEGIN:VCALENDAR
PRODID:NingEventWidget-v1
VERSION:2.0
METHOD:PUBLISH
BEGIN:VEVENT
UID:4320450:Event:29523
DTSTAMP:20260425T203744Z
SUMMARY:Black-Tie GayBINGO!
DESCRIPTION:Black-Tie GayBINGO is a more formal version of our monthly
  GayBINGO.  Held in the beautiful Crystal Tearoom in the Wanamaker Bui
 lding in Center City, Philadelphia, Black-Tie GayBINGO! is a fabulous 
 mix of elegance and fun, including cocktails, dinner, dancing, a silen
 t auction, & of course, GayBINGO!\n\nFor more information visit http:/
 /phillytodo.com/events/black-tie-gaybingo-black-tie-gaybingo-is-a-more
 -formal-version-of
DTSTART:20130301T233000Z
DTEND:20130302T033000Z
CATEGORIES:black-tie, fundraiser, bingo, lgbt
LOCATION:The Crystal Tearoom
WEBSITE:http://www.aidsfundphilly.org/gaybingo/blacktie.php
URL:http://www.aidsfundphilly.org/gaybingo/blacktie.php
CONTACT:215-731-9255
ORGANIZER;CN="Cari Feiler Bender":http://phillytodo.com/profile/CariFe
 ilerBender
ATTACH;FMTTYPE="image/jpeg":http://storage.ning.com/topology/rest/1.0/
 file/get/3054961020?profile=original
ATTENDEE;ROLE=REQ-PARTICIPANT;PARTSTAT=ACCEPTED;RSVP=TRUE;CN="Cari Fei
 ler Bender":http://phillytodo.com/profile/CariFeilerBender
END:VEVENT
END:VCALENDAR
