BEGIN:VCALENDAR
PRODID:NingEventWidget-v1
VERSION:2.0
METHOD:PUBLISH
BEGIN:VEVENT
UID:4320450:Event:59713
DTSTAMP:20260425T114101Z
SUMMARY:BLACK MAGIC
DESCRIPTION:Interdisciplinary artist Rashaad Newsome’s multipart pro
 ject, Black Magic, is on view at Philadelphia Photo Arts Center. Bla
 ck Magic is a holistic reflection on agency, Blackness, and the futur
 ity of intersectional identities and oppression. The project is compri
 sed of three separate elements: To Be Real, visually stunning collages
  housed in custom frames that use augmented reality lenses to reveal h
 idden aspects; Being, a cloud-based, A.I. humanoid, populated with the
  works of radical authors and revolutionaries; and Ansista, a 3D life-
 like creation outfitted to represent traditional African and drag ball
 room aesthetics.\n\nFor more information visit http://phillytodo.com/e
 vents/black-magic
DTSTART:20190912T140000Z
DTEND:20191130T220000Z
CATEGORIES:art, exhibition
LOCATION:Philadelphia Photo Arts Center, Suite 103
WEBSITE:https://www.philaphotoarts.org/event/rashaad-newsome-black-mag
 ic/
URL:https://www.philaphotoarts.org/event/rashaad-newsome-black-magic/
CONTACT:215-232-5678
ORGANIZER;CN="Bryan Chan":http://phillytodo.com/profile/BryanChan
ATTACH;FMTTYPE="image/jpeg":https://storage.ning.com/topology/rest/1.0
 /file/get/3691896219?profile=original
ATTENDEE;ROLE=REQ-PARTICIPANT;PARTSTAT=ACCEPTED;RSVP=TRUE;CN="Bryan Ch
 an":http://phillytodo.com/profile/BryanChan
END:VEVENT
END:VCALENDAR
