BEGIN:VCALENDAR
PRODID:NingEventWidget-v1
VERSION:2.0
METHOD:PUBLISH
BEGIN:VEVENT
UID:4320450:Event:3046
DTSTAMP:20260425T173514Z
SUMMARY:BLACK COFFEE / DJ VENUS7/ DJ NIKO at Philly Inner Circle this 
 Thanksgiving! 11.25.2010
DESCRIPTION:Stuck in Philly for the holidays or just want to unwind af
 ter the family dinner?\nCome spend your Thanksgiving with us! We have 
 a very special treat for you!\n\nLIVE FOR OUR SPECIAL THANKSGIVING EDI
 TION OF PHILLY INNER CIRCLE...We proudly present:\n\nThe One & Only...
 .BLACK COFFEE\n\nThe international superstar DJ that dominated at the 
 2010 Winter Music Conference (WMC) in Miami with his megahit single,'S
 uperman'. It was the anthem of the WMC conference & was heard pumpin t
 hroughout South Beach.\nRecently named S.Africa's GQ 2010 Man of the Y
 ear & has won multiple music awards, he continues to excite the dancef
 loors with hit after hit!\n\nOPENING SETS BY \"PHILLY INNER CIRCLE\" R
 ESIDENT DJs NIKO & VENUS 7\n\nDrink Specials from 9-11\n\nBottle Servi
 ce:\n$150 for 1Liter of Grey Goose, Ketel, & other premium spirits. Re
 servations strongly recommended.\n\nTURKEY BUFFET INCLUDED WITH PRICE 
 OF ADMISSION!\n\nQ LOUNGE\n1234 LOCUST ST\nPHILADELPHIA\n21+, 9PM-2AM\
 n\nFOR TICKETS: Go to http://phillyinnercircle.eventbrite.com/\n$15 Pr
 esale tickets available now & ends on 11.24.2010 at 5pm SHARP!\n$20 at
  the door\n\nLimited tickets available-Space is limited.\n\nFor more i
 nformation visit http://phillytodo.com/events/black-coffee-dj-venus7-d
 j
DTSTART:20101126T020000Z
DTEND:20101126T070000Z
CATEGORIES:holiday, -, dance, -dinner
LOCATION:Q LOUNGE
WEBSITE:http://www.facebook.com/event.php?eid=178341265509422
URL:http://www.facebook.com/event.php?eid=178341265509422
CONTACT:
ORGANIZER:PHILLI INNER CIRCLE
ATTACH;FMTTYPE="image/jpeg":http://storage.ning.com/topology/rest/1.0/
 file/get/3054950807?profile=original
ATTENDEE;ROLE=REQ-PARTICIPANT;PARTSTAT=ACCEPTED;RSVP=TRUE;CN="Venus Ka
 ":http://phillytodo.com/profile/VenusKa
END:VEVENT
END:VCALENDAR
