BEGIN:VCALENDAR
PRODID:NingEventWidget-v1
VERSION:2.0
METHOD:PUBLISH
BEGIN:VEVENT
UID:4320450:Event:3050
DTSTAMP:20260425T142538Z
SUMMARY:BLACK COFFEE at Philly Inner Circle this ThanksgivingNIGHT + F
 REE TURKY DINNER
DESCRIPTION:\n\nLine-up /\nBlack Coffee ( south Africa )\nDj Venus7 - 
 Diva of the Deep\nDJ Niko\n\nPromoter /\nphilly inner circle & global 
 influences\nCome spend your Thanksgiving with us! We have a very speci
 al treat for you!\n\nLIVE FOR OUR SPECIAL THANKSGIVING EDITION OF PHIL
 LY INNER CIRCLE...We proudly present:\n\nThe One & Only....BLACK COFFE
 E\n\nThe international superstar DJ that dominated at the 2010 Winter 
 Music Conference (WMC) in Miami with his megahit single,'Superman'. It
  was the anthem of the WMC conference & was heard pumpin throughout So
 uth Beach.\nRecently named S.Africa's GQ 2010 Man of the Year & has wo
 n multiple music awards, he continues to excite the dancefloors with h
 it after hit!\n\nOPENING SETS BY \"PHILLY INNER CIRCLE\" RESIDENT DJs 
 NIKO & VENUS 7\n\nDrink Specials from 9-11\n\nBottle Service:\n$150 fo
 r 1Liter of Grey Goose, Ketel, & other premium spirits. Reservations s
 trongly recommended.\n\nTURKEY BUFFET INCLUDED WITH PRICE OF ADMISSION
 !\n\nQ LOUNGE\n1234 LOCUST ST\nPHILADELPHIA\n21+, 9PM-2AM\n\nFOR TICKE
 TS: Go to http://phillyinnercircle.eventbrite.com/\n$15 Presale ticket
 s available now & ends on 11.24.2010 at 5pm SHARP!\n$20 at the door\n\
 nLimited tickets available-Space is limited.\n\nFor more information v
 isit http://phillytodo.com/events/black-coffee-at-philly-inner
DTSTART:20101126T020000Z
DTEND:20101126T070000Z
CATEGORIES:holiday, -, dance, -dinner
LOCATION:Q LOUNGE
WEBSITE:http://phillyinnercircle.eventbrite.com/
URL:http://phillyinnercircle.eventbrite.com/
CONTACT:
ORGANIZER:PHILLI INNER CIRCLE
ATTACH;FMTTYPE="image/jpeg":http://storage.ning.com/topology/rest/1.0/
 file/get/3054950782?profile=original
ATTENDEE;ROLE=REQ-PARTICIPANT;PARTSTAT=ACCEPTED;RSVP=TRUE;CN="Venus Ka
 ":http://phillytodo.com/profile/VenusKa
END:VEVENT
END:VCALENDAR
