BEGIN:VCALENDAR
PRODID:NingEventWidget-v1
VERSION:2.0
METHOD:PUBLISH
BEGIN:VEVENT
UID:4320450:Event:19406
DTSTAMP:20260425T155155Z
SUMMARY:Bitten: Philly's Hottest Halloween Dance Party!
DESCRIPTION:Presenting ... Bitten 2011! McFadden's Philadelphia has be
 en the place to go out and this year is THE place to be for Halloween 
 in Philadelphia 2011! For the past 7 years, UpcomingEvents.com & Young
 ProfessionalEvents.com has been bringing you Philadelphia's most visib
 le and most exclusive Halloween events - and this year we present you 
 with Bitten!  ** Over 275 Tickets Already Sold! **\nAnother 6-hour b
 low-out costume extravaganza - be sure you are at Philly's most talked
  about party for the 7th year in a row... The party starts at 8pm and 
 lasts until 2am. Our amazing DJ will be playing amazing mash-ups, 80's
 , and top-40 club music. This event will have over 800 people - all de
 cked out to the nines in Halloween flair! Costume contest (over $1000 
 in cash & prizes!), VIP & Bottle Service tickets, and MUCH MORE!\nPlea
 se note that our parties have been sold out 7 years in a row - and thi
 s year should be know exception. BUY TICKETS ASAP!\nStart the buzz, i
 t'll be worth it, we promise!  We will see you there.\n\nFor more inf
 ormation visit http://phillytodo.com/events/bitten-philly-s-hottest-ha
 lloween-dance-party
DTSTART:20111030T000000Z
DTEND:20111030T060000Z
CATEGORIES:dance
LOCATION:McFadden's 3rd St.
WEBSITE:http://www.upcomingevents.com/event/8846/ptodo/
URL:http://www.upcomingevents.com/event/8846/ptodo/
CONTACT:
ORGANIZER;CN="UpcomingEvents.com":http://phillytodo.com/profile/Upcomi
 ngEventscom
ATTACH;FMTTYPE="image/jpeg":
ATTENDEE;ROLE=REQ-PARTICIPANT;PARTSTAT=ACCEPTED;RSVP=TRUE;CN="Upcoming
 Events.com":http://phillytodo.com/profile/UpcomingEventscom
END:VEVENT
END:VCALENDAR
