BEGIN:VCALENDAR
PRODID:NingEventWidget-v1
VERSION:2.0
METHOD:PUBLISH
BEGIN:VEVENT
UID:4320450:Event:28506
DTSTAMP:20260425T150208Z
SUMMARY:BITTEN: Philly's Hottest Halloween Dance Party!
DESCRIPTION:Presenting ... Bitten 2012! McFadden's Philadelphia has be
 en the place to go out and this year is THE place to be for Halloween 
 in Philadelphia 2012! For the past 8 years, UpcomingEvents.com & Young
 ProfessionalEvents.com have been bringing you Philadelphia’s most vi
 sible and most exclusive Halloween events - and this year we present y
 ou with Bitten!  ** Hundreds of Tickets Already Sold! **\n \nAnother
  6-hour blow-out costume extravaganza - be sure you are at Philly's mo
 st talked about party for the 8th year in a row... The party starts at
  8pm and lasts until 2am. Our amazing DJ will be playing amazing mash-
 ups, 80's, and top-40 club music. This event will have over 800 people
  - all decked out to the nines in Halloween flair!  Costume contest, 
 VIP & Bottle Service tickets, free drinks and MUCH MORE!\n\nFor more i
 nformation visit http://phillytodo.com/events/bitten-philly-s-hottest-
 halloween-dance-party-1
DTSTART:20121028T000000Z
DTEND:20121028T060000Z
CATEGORIES:halloween, party
LOCATION:McFaddens
WEBSITE:http://www.halloweenparties.com/events/bitten-phillys-hottest-
 halloween-dance-party?r=ptodo
URL:http://www.halloweenparties.com/events/bitten-phillys-hottest-hall
 oween-dance-party?r=ptodo
CONTACT:
ORGANIZER;CN="UpcomingEvents.com":http://phillytodo.com/profile/Upcomi
 ngEventscom
ATTACH;FMTTYPE="image/jpeg":
ATTENDEE;ROLE=REQ-PARTICIPANT;PARTSTAT=ACCEPTED;RSVP=TRUE;CN="Upcoming
 Events.com":http://phillytodo.com/profile/UpcomingEventscom
END:VEVENT
END:VCALENDAR
