BEGIN:VCALENDAR
PRODID:NingEventWidget-v1
VERSION:2.0
METHOD:PUBLISH
BEGIN:VEVENT
UID:4320450:Event:55945
DTSTAMP:20260425T112442Z
SUMMARY:Bird Seed Sale
DESCRIPTION:Save on birdseed, seed mixes, and suet—in quantities fro
 m 4 to 50 lb. bags. Members receive 20% off birdseed and non-members r
 eceive 10% off birdseed. To ensure you get the quantity you need, plac
 e an order in advance by calling 215-482-7300, by Friday, September 7.
  While you’re picking up your birdseed, stop in and browse our great
  selection of bird feeders, birdhouses and nature gifts.\n\nFor more i
 nformation visit http://phillytodo.com/events/bird-seed-sale
DTSTART:20180922T130000Z
DTEND:20180922T200000Z
CATEGORIES:sale, nature, birds
LOCATION:Schuylkill Center for Environmental Education
WEBSITE:http://www.schuylkillcenter.org/blog/event/bird-seed-sale/
URL:http://www.schuylkillcenter.org/blog/event/bird-seed-sale/
CONTACT:215-482-7300
ORGANIZER;CN="The Schuylkill Center":http://phillytodo.com/profile/Ann
 aLehrMueser
ATTACH;FMTTYPE="image/jpeg":http://storage.ning.com/topology/rest/1.0/
 file/get/3055015864?profile=original
ATTENDEE;ROLE=REQ-PARTICIPANT;PARTSTAT=ACCEPTED;RSVP=TRUE;CN="The Schu
 ylkill Center":http://phillytodo.com/profile/AnnaLehrMueser
END:VEVENT
END:VCALENDAR
