BEGIN:VCALENDAR
PRODID:NingEventWidget-v1
VERSION:2.0
METHOD:PUBLISH
BEGIN:VEVENT
UID:4320450:Event:2540
DTSTAMP:20260425T173457Z
SUMMARY:BigBellyÂ© Scavenger Hunt
DESCRIPTION:Big Picture students teamed up with artists Thom Lessner a
 nd Ben Woodward to design graphic vinyl wraps for 50 of Philadelphiaâ€
 ™s new BigBellyÂ© trash compactors, turning them into colorful â€śtras
 h monstersâ€ť and â€ślitter bugs.â€ť Sponsored by the City of Philadel
 phia Department of Human Services (DHS). Created in partnership with t
 he City of Philadelphia Department of Streets.\n\nStay tuned to our we
 bsite for more information about this event.\n\nFor more information v
 isit http://phillytodo.com/events/bigbellyc-scavenger-hunt
DTSTART:20101013T200000Z
DTEND:20101013T210000Z
CATEGORIES:scavenger, hunt
LOCATION:Check our website
WEBSITE:
URL:
CONTACT:
ORGANIZER;CN="Jenn McCreary":http://phillytodo.com/profile/JennMcCrear
 y
ATTACH;FMTTYPE="image/jpeg":
ATTENDEE;ROLE=REQ-PARTICIPANT;PARTSTAT=ACCEPTED;RSVP=TRUE;CN="Jenn McC
 reary":http://phillytodo.com/profile/JennMcCreary
END:VEVENT
END:VCALENDAR
