BEGIN:VCALENDAR
PRODID:NingEventWidget-v1
VERSION:2.0
METHOD:PUBLISH
BEGIN:VEVENT
UID:4320450:Event:48108
DTSTAMP:20260425T124856Z
SUMMARY:Between the Threads
DESCRIPTION:A group exhibition of works by women artists that utilize 
 yarn, string, hair, and thread to employ a practice that is typically 
 considered domestic, or the domain of womanhood such as: knitting, sew
 ing, and weaving. Using these materials and techniques in non-traditio
 nal ways the artists have redefined concepts of gender identity, sexua
 lity, power, control, and self-determination.\n\nFor more information 
 visit http://phillytodo.com/events/between-the-threads
DTSTART:20161114T050000Z
DTEND:20170108T045900Z
CATEGORIES:art, exhibition
LOCATION:Rowan University Art Gallery
WEBSITE:http://www.rowan.edu/artgallery
URL:http://www.rowan.edu/artgallery
CONTACT:856-256-4520
ORGANIZER;CN="mary salvante":http://phillytodo.com/profile/marysalvant
 e
ATTACH;FMTTYPE="image/jpeg":http://storage.ning.com/topology/rest/1.0/
 file/get/3054999049?profile=original
ATTENDEE;ROLE=REQ-PARTICIPANT;PARTSTAT=ACCEPTED;RSVP=TRUE;CN="mary sal
 vante":http://phillytodo.com/profile/marysalvante
END:VEVENT
END:VCALENDAR
