BEGIN:VCALENDAR
PRODID:NingEventWidget-v1
VERSION:2.0
METHOD:PUBLISH
BEGIN:VEVENT
UID:4320450:Event:48301
DTSTAMP:20260425T130708Z
SUMMARY:BETWEEN THE THREADS A Feminist Guide to the Domestic
DESCRIPTION:GLASSBORO, NJ – Six women artists reevaluate ideas of se
 xuality and gender within the domestic realm of materials in the lates
 t exhibition at Rowan University Art Gallery at High Street. Between t
 he Threads is on view from November 14, 2016 – January 7, 2017. An o
 pening reception takes place on Thursday, November 17 from 6 – 8 p.m
 .\n\nThis group exhibition showcases the work of April Dauscha, Nancy 
 Davidson, Melissa Maddonni Haims, Jesse Harrod, Elizabeth Mackie, and 
 Diane Savona. Utilizing yarn, string, hair, and thread in practices of
 ten considered the domain of womanhood (knitting, sewing, and weaving)
 , they employ these materials and techniques in non-traditional ways t
 o explore issues of identity, sexuality, power, control, and self-dete
 rmination.\n\nFor more information visit http://phillytodo.com/events/
 between-the-threads-a-feminist-guide-to-the-domestic-1
DTSTART:20161031T220000Z
DTEND:20161031T230000Z
CATEGORIES:visual, art, exhibition
LOCATION:Rowan University Art Gallery at High Street
WEBSITE:http://www.rowan.edu/artgallery
URL:http://www.rowan.edu/artgallery
CONTACT:856-256-4521
ORGANIZER;CN="mary salvante":http://phillytodo.com/profile/marysalvant
 e
ATTACH;FMTTYPE="image/jpeg":
ATTENDEE;ROLE=REQ-PARTICIPANT;PARTSTAT=ACCEPTED;RSVP=TRUE;CN="mary sal
 vante":http://phillytodo.com/profile/marysalvante
END:VEVENT
END:VCALENDAR
