BEGIN:VCALENDAR
PRODID:NingEventWidget-v1
VERSION:2.0
METHOD:PUBLISH
BEGIN:VEVENT
UID:4320450:Event:54756
DTSTAMP:20260425T142631Z
SUMMARY:Best of Manayunk
DESCRIPTION:The Best of Manayunk is back again this year to celebrate 
 our diverse businesses and community, and all our vibrant, historic di
 strict has to offer! The competition awards the district in 55 total c
 ategories under the live, shop, dine, play and reader's choice categor
 ies, which were voted on by the community. The 2018 winners will be an
 nounced at the Best of Manayunk cocktail party and in the \"Best of\" 
 issue of Manayunk Magazine.\n\nFor more information visit http://phill
 ytodo.com/events/best-of-manayunk
DTSTART:20180315T230000Z
DTEND:20180316T030000Z
CATEGORIES:cocktail, party
LOCATION:Bourbon Blue
WEBSITE:
URL:
CONTACT:2154829565
ORGANIZER;CN="Manayunk Development Corporation":http://phillytodo.com/
 profile/ManayunkDevelopmentCorporation
ATTACH;FMTTYPE="image/jpeg":http://storage.ning.com/topology/rest/1.0/
 file/get/3055010104?profile=original
ATTENDEE;ROLE=REQ-PARTICIPANT;PARTSTAT=ACCEPTED;RSVP=TRUE;CN="Manayunk
  Development Corporation":http://phillytodo.com/profile/ManayunkDevelo
 pmentCorporation
END:VEVENT
END:VCALENDAR
