BEGIN:VCALENDAR
PRODID:NingEventWidget-v1
VERSION:2.0
METHOD:PUBLISH
BEGIN:VEVENT
UID:4320450:Event:168405
DTSTAMP:20260425T111635Z
SUMMARY:Berwyn Indoor / Outdoor Vintage Flea Market
DESCRIPTION:Indoor / Outdoor Vintage Flea Market every Saturday & Sund
 ay 8AM - 4PM\n\nPlenty of free parking and free admission!\n\nFor more
  information visit http://phillytodo.com/events/berwyn-indoor-outdoor-
 vintage-flea-market
DTSTART:20210626T120000Z
DTEND:20210627T200000Z
CATEGORIES:flea, market
LOCATION:Valley Fair Shopping Center
WEBSITE:http://www.PhilaFleaMarkets.org
URL:http://www.PhilaFleaMarkets.org
CONTACT:215 - 625 - 3532
ORGANIZER;CN="Phila Flea Markets":http://phillytodo.com/profile/PhilaF
 leaMarkets
ATTACH;FMTTYPE="image/jpeg":
ATTENDEE;ROLE=REQ-PARTICIPANT;PARTSTAT=ACCEPTED;RSVP=TRUE;CN="Phila Fl
 ea Markets":http://phillytodo.com/profile/PhilaFleaMarkets
END:VEVENT
END:VCALENDAR
