BEGIN:VCALENDAR
PRODID:NingEventWidget-v1
VERSION:2.0
METHOD:PUBLISH
BEGIN:VEVENT
UID:4320450:Event:1213
DTSTAMP:20260425T142627Z
SUMMARY:Berto vs Quintana ~ Saturday April 10
DESCRIPTION:Enjoy UFC Fight Berto vs Quintana Saturday April 10 surrou
 nded by High- Definition screens and the \"World's Most Beautiful Show
 girls!\"\n\nFIGHT NIGHT IS ALWAYS THE RIGHT NIGHT AT DELILAH'S!\n\nFor
  more information visit http://phillytodo.com/events/berto-vs-quintana
 -saturday
DTSTART:20100410T230000Z
DTEND:20100411T060000Z
CATEGORIES:fight, party
LOCATION:Delilah's Gentlemen's Club & Steakhouse
WEBSITE:http://www.delilahs.com
URL:http://www.delilahs.com
CONTACT:215-625-2800 x101
ORGANIZER;CN="Delilah's":http://phillytodo.com/profile/Delilahs
ATTACH;FMTTYPE="image/jpeg":http://storage.ning.com/topology/rest/1.0/
 file/get/3054943209?profile=original
ATTENDEE;ROLE=REQ-PARTICIPANT;PARTSTAT=ACCEPTED;RSVP=TRUE;CN="Delilah'
 s":http://phillytodo.com/profile/Delilahs
END:VEVENT
END:VCALENDAR
