BEGIN:VCALENDAR
PRODID:NingEventWidget-v1
VERSION:2.0
METHOD:PUBLISH
BEGIN:VEVENT
UID:4320450:Event:49392
DTSTAMP:20260425T162913Z
SUMMARY:Bernie Robbins Mother's Day Sale
DESCRIPTION:Just in time for Mother’s Day, don’t miss Bernie Robbi
 ns Jewelers Sale at Somers Point with prices up to 70% off on Saturday
 , May 6th – Saturday, May 13th. Their biggest sale of the year, cust
 omers will discover the world's foremost designers, fine swiss watches
 , diamonds and more. Plus, engagement ring prices starting at $500. Le
 arn more at www.bernierobbins.com and join the conversation @BernieRob
 binsJewelers\n\nFor more information visit http://phillytodo.com/event
 s/bernie-robbins-mother-s-day-sale
DTSTART:20170506T140000Z
DTEND:20170513T213000Z
CATEGORIES:"jewelery sale"
LOCATION:Bernie Robbins Jewelers
WEBSITE:http://www.bernierobbins.com
URL:http://www.bernierobbins.com
CONTACT:215-627-1060
ORGANIZER;CN=CashmanAssoc:http://phillytodo.com/profile/CashmanAssoc
ATTACH;FMTTYPE="image/jpeg":http://storage.ning.com/topology/rest/1.0/
 file/get/3055003887?profile=original
ATTENDEE;ROLE=REQ-PARTICIPANT;PARTSTAT=ACCEPTED;RSVP=TRUE;CN=CashmanAs
 soc:http://phillytodo.com/profile/CashmanAssoc
END:VEVENT
END:VCALENDAR
