BEGIN:VCALENDAR
PRODID:NingEventWidget-v1
VERSION:2.0
METHOD:PUBLISH
BEGIN:VEVENT
UID:4320450:Event:48210
DTSTAMP:20260425T123722Z
SUMMARY:Bernie Robbins Jewelers Gift Extravaganza
DESCRIPTION:Get a jump on your holiday shopping list and even treat yo
 urself! Don't miss our exclusive 4th Annual Gift With Purchase Event.\
 nMake a purchase from your favorite designer to receive an additional 
 FREE gift! PLUS receive a Bernie Robbins Gift Certificate with any pur
 chase of $500 or more!\nThe gifts this year are truly fabulous. A snea
 k peak: pearl stud earrings by Honora, Rock Candy collection gemstone 
 martini stud earrings by Ippolita (each gift comes FREE with a purchas
 e of any item from these brands)\n\nFor more information visit http://
 phillytodo.com/events/bernie-robbins-jewelers-gift-extravaganza
DTSTART:20161118T153000Z
DTEND:20161119T230000Z
CATEGORIES:exclusive, 4th, annual, gift, with, purchase, event
LOCATION:Bernie Robbins in Villanova - Newtown - Marlton - Somers Poin
 t
WEBSITE:http://www.bernierobbins.com/eventdetails.cfm?page=bernie-robb
 ins-jewelers-gift-extravaganza
URL:http://www.bernierobbins.com/eventdetails.cfm?page=bernie-robbins-
 jewelers-gift-extravaganza
CONTACT:215-421-9114
ORGANIZER:Bernie Robbins Jewelers
ATTACH;FMTTYPE="image/jpeg":
ATTENDEE;ROLE=REQ-PARTICIPANT;PARTSTAT=ACCEPTED;RSVP=TRUE;CN=CashmanAs
 soc:http://phillytodo.com/profile/CashmanAssoc
END:VEVENT
END:VCALENDAR
