BEGIN:VCALENDAR
PRODID:NingEventWidget-v1
VERSION:2.0
METHOD:PUBLISH
BEGIN:VEVENT
UID:4320450:Event:41371
DTSTAMP:20260425T155737Z
SUMMARY:Bernie Robbins Jewelers’ Before The Beach Brunch: Get Styled
  by Hal
DESCRIPTION:Celebrity stylist Hal Rubenstein, one of the most respecte
 d and influential voices in the fashion industry, will make a special 
 appearance during Bernie Robbins Jewelers’ Chic at the Shore summer 
 event series on July 25th for a “Before The Beach Brunch”.\n \nAs
  one of the founding editors of InStyle Magazine, where he served as F
 ashion Director for 15 years and then Editor-At-Large, Hal helped crea
 te the distinctive, always positive, you-can-do-this voice of InStyle 
 and its embrace of hi/low fashion that literally changed the way retai
 lers now regard the American consumer. Now, as global style director f
 or Gabriel & Co., he will chat one-on-one and offer his expert fashion
  tips and advice at this exclusive event.\n \nGuests will enjoy:\n\nB
 runch bites (mini quiches, mini waffles, fruit skewers, and more)\nMim
 osas and fruit-infused waters\nGabriel & Co. Signature Cocktails\nLive
  music by the Jabber Jaws\nStep & Repeat with Red-Carpet Style Photo B
 ooth\nFree Jewelry Giveaways\nFree Gift With Purchase\n\n \n\nFor mor
 e information visit http://phillytodo.com/events/bernie-robbins-jewele
 rs-before-the-beach-brunch-get-styled-by-h-2
DTSTART:20150725T140000Z
DTEND:20150725T190000Z
CATEGORIES:special, event-, shopping
LOCATION:Bernie Robbins Jewelers Flagship Location
WEBSITE:http://www.bernierobbins.com/eventdetails.cfm?page=before-the-
 beach-brunch-get-styled-by-hal
URL:http://www.bernierobbins.com/eventdetails.cfm?page=before-the-beac
 h-brunch-get-styled-by-hal
CONTACT:2156271060
ORGANIZER;CN=CashmanAssoc:http://phillytodo.com/profile/CashmanAssoc
ATTACH;FMTTYPE="image/jpeg":
ATTENDEE;ROLE=REQ-PARTICIPANT;PARTSTAT=ACCEPTED;RSVP=TRUE;CN=CashmanAs
 soc:http://phillytodo.com/profile/CashmanAssoc
END:VEVENT
END:VCALENDAR
