BEGIN:VCALENDAR
PRODID:NingEventWidget-v1
VERSION:2.0
METHOD:PUBLISH
BEGIN:VEVENT
UID:4320450:Event:56168
DTSTAMP:20260425T163403Z
SUMMARY:Bernie Robbins Jewelers $5,000,000 Diamond Sale
DESCRIPTION:Bernie Robbins Jewelers, the regionâ€™s leading luxury jew
 eler, is hosting a rare $5 Million-dollar diamond sale! With engagemen
 t and holiday season around the corner, donâ€™t miss this opportunity 
 to own beautiful, one-of-a-kind diamonds at prices direct from the min
 e.\nÂ \nSomers Point, 507 New Road, Somers Point, NJ 08244Â Â Â Â Â Â 
 Â Â Â  609 927 4848\nMarlton, 500 Route 73 S Marlton, NJ 08053 Â Â Â Â
  Â  856 985 4500\nHard Rock Hotel & Casino Atlantic City, 1000 Boardwa
 lk, Atlantic City, NJ 08401 Â Â Â Â Â 609 385 2218\nNewtown, 200 N. Sy
 camore St., Newtown, PA 18940Â Â Â Â Â Â Â Â Â Â Â Â Â  215 579 8224\n
 Villanova, 775 E. Lancaster Ave., Villanova, PA 19085Â Â Â Â Â Â Â Â Â
  Â Â  610 971 2446\nÂ \nContact:Â jill@cashmanandassociates.com\n\nFor
  more information visit http://phillytodo.com/events/bernie-robbins-je
 welers-5-000-000-diamond-sale
DTSTART:20181012T040000Z
DTEND:20181014T035900Z
CATEGORIES:retail, sale
LOCATION:Bernie Robbins Jewelers
WEBSITE:https://www.bernierobbins.com/bernie-robbins-jewelers/events/d
 iamond-sale_10122018_1000
URL:https://www.bernierobbins.com/bernie-robbins-jewelers/events/diamo
 nd-sale_10122018_1000
CONTACT:215-627-1060
ORGANIZER;CN=CashmanAssoc:http://phillytodo.com/profile/CashmanAssoc
ATTACH;FMTTYPE="image/jpeg":http://storage.ning.com/topology/rest/1.0/
 file/get/3055015657?profile=original
ATTENDEE;ROLE=REQ-PARTICIPANT;PARTSTAT=ACCEPTED;RSVP=TRUE;CN=CashmanAs
 soc:http://phillytodo.com/profile/CashmanAssoc
END:VEVENT
END:VCALENDAR
