BEGIN:VCALENDAR
PRODID:NingEventWidget-v1
VERSION:2.0
METHOD:PUBLISH
BEGIN:VEVENT
UID:4320450:Event:55505
DTSTAMP:20260425T125034Z
SUMMARY:Berkshire Mall Corvette Show
DESCRIPTION:Skyline Drive Corvette Club Car Show will be at the Berksh
 ire Mall the weekend of June 15-17. Come out to view corvettes from t
 he Skyline Drive Corvette Club throughout the mall.\n \nDate: June 1
 5-17\n10am- 8pm\n\nFor more information visit http://phillytodo.com/ev
 ents/berkshire-mall-corvette-show
DTSTART:20180616T020000Z
DTEND:20180618T000000Z
CATEGORIES:corvette, show
LOCATION:Berkshire Mall
WEBSITE:https://www.facebook.com/events/2048264292107075/
URL:https://www.facebook.com/events/2048264292107075/
CONTACT:
ORGANIZER;CN=CashmanAssoc:http://phillytodo.com/profile/CashmanAssoc
ATTACH;FMTTYPE="image/jpeg":http://storage.ning.com/topology/rest/1.0/
 file/get/3055015522?profile=original
ATTENDEE;ROLE=REQ-PARTICIPANT;PARTSTAT=ACCEPTED;RSVP=TRUE;CN=CashmanAs
 soc:http://phillytodo.com/profile/CashmanAssoc
END:VEVENT
END:VCALENDAR
