BEGIN:VCALENDAR
PRODID:NingEventWidget-v1
VERSION:2.0
METHOD:PUBLISH
BEGIN:VEVENT
UID:4320450:Event:55901
DTSTAMP:20260425T125026Z
SUMMARY:Berkshire Mall Book Bonanza
DESCRIPTION:Berks County’s biggest used book sale returns! Stop by t
 he annual Berks Book Bonanza at the Berkshire Mall on Friday, July 13t
 h through Sunday, July 15th. Hours per day may vary, so visit our webs
 ite for full details; www.berkshiremall.com\n\nFor more information vi
 sit http://phillytodo.com/events/berkshire-mall-book-bonanza
DTSTART:20180713T220000Z
DTEND:20180715T230000Z
CATEGORIES:books
LOCATION:Berkshire Mall
WEBSITE:http://www.berkshiremall.com
URL:http://www.berkshiremall.com
CONTACT:
ORGANIZER;CN=CashmanAssoc:http://phillytodo.com/profile/CashmanAssoc
ATTACH;FMTTYPE="image/jpeg":
ATTENDEE;ROLE=REQ-PARTICIPANT;PARTSTAT=ACCEPTED;RSVP=TRUE;CN=CashmanAs
 soc:http://phillytodo.com/profile/CashmanAssoc
END:VEVENT
END:VCALENDAR
