BEGIN:VCALENDAR
PRODID:NingEventWidget-v1
VERSION:2.0
METHOD:PUBLISH
BEGIN:VEVENT
UID:4320450:Event:52906
DTSTAMP:20260425T130734Z
SUMMARY:Benjamin Lovell Shoes Flagship Store Grand Opening
DESCRIPTION:On Saturday, October 28th 10-8pm and Sunday, October 29th 
 11-6pm, Benjamin Lovell Shoes, a fashion-comfort footwear retailer kno
 wn to Philadelphians for the past 26 years, announces the relocation a
 nd expansion of its flagship store in Rittenhouse Square. The store wi
 ll celebrate with a grand opening celebration weekend including person
 alized appointments, on-site foot massages, one-on-one styling session
 s with professional stylists and much more! \n\nFor more information 
 visit http://phillytodo.com/events/benjamin-lovell-shoes-flagship-stor
 e-grand-opening
DTSTART:20171028T140000Z
DTEND:20171029T000000Z
CATEGORIES:grand, opening
LOCATION:Benjamin Lovell Shoes Flagship Store
WEBSITE:http://www.blshoes.com
URL:http://www.blshoes.com
CONTACT:2156271060
ORGANIZER;CN=CashmanAssoc:http://phillytodo.com/profile/CashmanAssoc
ATTACH;FMTTYPE="image/jpeg":http://storage.ning.com/topology/rest/1.0/
 file/get/3055009972?profile=original
ATTENDEE;ROLE=REQ-PARTICIPANT;PARTSTAT=ACCEPTED;RSVP=TRUE;CN=CashmanAs
 soc:http://phillytodo.com/profile/CashmanAssoc
END:VEVENT
END:VCALENDAR
