BEGIN:VCALENDAR
PRODID:NingEventWidget-v1
VERSION:2.0
METHOD:PUBLISH
BEGIN:VEVENT
UID:4320450:Event:2264
DTSTAMP:20260425T125919Z
SUMMARY:Ben Sollee Concert at the PA Energy Fest
DESCRIPTION:Join hippies, farmers, renewable energy enthusiasts, music
 -devottees, and generally good folk this Saturday September 18th at th
 e PA Energy Festival. We are proud that for the festival entrance pric
 e of $12, guests can be delighted by the musical musings of cellist/vo
 calist Ben Sollee.\n\nSollee is an environmental advocate in his own r
 ight, opting to tour the US via bicycle rather than the traditional ga
 s-powered van. His work in fighting moutain top removal has proved exh
 austive.\n\nWe encourage you to stop by for a great show. Come earlier
  to hear seminars on everything from \"Electrical Grounding and Solar 
 PV Systems\" to \"Living in a Passive Solar Home\".\n\n-------BEN SOLL
 EE REVIEWS ------------------------------------------------\n\n\"Heari
 ng lines like “If I’ve wounded you, I’m sorry. I had good intent
 ions” in the context of what mountaintop removal does to communities
  and the earth, it’s a powerful plea for ecological, economic and so
 cial healing. I can’t say I’ve heard anything that’s tied itself
  to the Bluegrass State so holistically and purposefully.\"\n- Sean Ca
 nnon, Buzzgrinder\n\n\"Sollee's own songs on Learning to Bend channel 
 the artists he heard his parents play while growing up — Wilson Pick
 ett, Ray Charles, Billie Holiday, Otis Redding — with a touch of the
  folk recordings he later discovered. Sollee pays tribute to these sin
 gers with a remarkably soulful voice of his own and some surprising in
 strumentation. At the heart of Learning to Bend is Sollee's warm and r
 esonate cello, an instrument he's plucked and bowed since he was a chi
 ld.\"\n- All Things Considered, National Public Radio\n\nFor more info
 rmation visit http://phillytodo.com/events/ben-sollee-concert-at-the-p
 a
DTSTART:20100918T140000Z
DTEND:20100919T010000Z
CATEGORIES:festival, concert
LOCATION:Kempton Community Center
WEBSITE:http://paenergyfest.com
URL:http://paenergyfest.com
CONTACT:
ORGANIZER:Mid Atlantic Renewable Energy Association
ATTACH;FMTTYPE="image/jpeg":http://storage.ning.com/topology/rest/1.0/
 file/get/3054950068?profile=original
ATTENDEE;ROLE=REQ-PARTICIPANT;PARTSTAT=ACCEPTED;RSVP=TRUE;CN="Lily Osw
 ald":http://phillytodo.com/profile/LilyOswald
END:VEVENT
END:VCALENDAR
