BEGIN:VCALENDAR
PRODID:NingEventWidget-v1
VERSION:2.0
METHOD:PUBLISH
BEGIN:VEVENT
UID:4320450:Event:49620
DTSTAMP:20260425T130959Z
SUMMARY:Ben Dibble's Are We There Yet? Just A Little Father(hood Cabar
 et)
DESCRIPTION:Ben Dibble performs a mix of Broadway, Musical Theatre and
  Pop that celebrates the journey of Fatherhood to explore the bitter-s
 weetness of life. \n\nFor more information visit http://phillytodo.co
 m/events/ben-dibble-s-are-we-there-yet-just-a-little-father-hood-cabar
 et
DTSTART:20170318T000000Z
DTEND:20170318T020000Z
CATEGORIES:cabaret
LOCATION:Hamilton Family Arts Center
WEBSITE:https://tickets.ardentheatre.org/Online/default.asp
URL:https://tickets.ardentheatre.org/Online/default.asp
CONTACT:215-922-1122
ORGANIZER;CN="Arden Theatre Company":http://phillytodo.com/profile/Ard
 enTheatreCompany
ATTACH;FMTTYPE="image/jpeg":http://storage.ning.com/topology/rest/1.0/
 file/get/3055001569?profile=original
ATTENDEE;ROLE=REQ-PARTICIPANT;PARTSTAT=ACCEPTED;RSVP=TRUE;CN="Arden Th
 eatre Company":http://phillytodo.com/profile/ArdenTheatreCompany
END:VEVENT
END:VCALENDAR
