BEGIN:VCALENDAR
PRODID:NingEventWidget-v1
VERSION:2.0
METHOD:PUBLISH
BEGIN:VEVENT
UID:4320450:Event:35662
DTSTAMP:20260425T112404Z
SUMMARY:Bellator MMA
DESCRIPTION:Bellator MMA will return to Atlantic City’s Revel on Fr
 iday, May 2nd live on Spike TV.\nThe event will broadcast live at 9 p.
 m. EST/ 8 p.m. CST on Spike TV. The preliminary card will be streamed 
 live and free on Spike.com beginning at 7 p.m. EST/ 6 p.m. CST. Ticket
 s for the event are on sale now and can be purchased on Ticketmaster.c
 om and Bellator.com.\n\nFor more information visit http://phillytodo.c
 om/events/bellator-mma-1
DTSTART:20140502T223000Z
DTEND:20140503T030000Z
CATEGORIES:sports, entertainment, mma
LOCATION:Revel
WEBSITE:http://www.bellator.com/
URL:http://www.bellator.com/
CONTACT:
ORGANIZER;CN="Bellator MMA":http://phillytodo.com/profile/BellatorMMA
ATTACH;FMTTYPE="image/jpeg":
ATTENDEE;ROLE=REQ-PARTICIPANT;PARTSTAT=ACCEPTED;RSVP=TRUE;CN="Bellator
  MMA":http://phillytodo.com/profile/BellatorMMA
END:VEVENT
END:VCALENDAR
