BEGIN:VCALENDAR
PRODID:NingEventWidget-v1
VERSION:2.0
METHOD:PUBLISH
BEGIN:VEVENT
UID:4320450:Event:56910
DTSTAMP:20260425T112618Z
SUMMARY:#BelieveIn - A BuildOn Event
DESCRIPTION:Join us at Green Soul Thursday, January 17th 5:30-7:30 PM 
 to support local teens build a school in Nepal!\n100% of proceeds from
  the #BelieveIn event will be donated to buildOn, an international non
 -profit organization that builds elementary schools around the world a
 nd provides service-learning opportunities to students and educators\n
 $50 tickets include Nepalese inspired cuisine and cocktails and a perf
 ormance by Seraiah Nicole.\nFor over 30 years, BuildOn has mobilized r
 ural communities in some of the economically poorest countries on the 
 planet, resulting in the creation of more than 1,200 new primary schoo
 ls and the educations of over 150,000 students who are currently atten
 ding these schools.\n\nFor more information visit http://phillytodo.co
 m/events/believein-a-buildon-event
DTSTART:20190117T223000Z
DTEND:20190118T003000Z
CATEGORIES:fundraiser
LOCATION:Green Soul Restaurant
WEBSITE:https://green-soul.ticketleap.com/believe---a-build-on-event/d
 etails
URL:https://green-soul.ticketleap.com/believe---a-build-on-event/detai
 ls
CONTACT:
ORGANIZER:Build On
ATTACH;FMTTYPE="image/jpeg":
ATTENDEE;ROLE=REQ-PARTICIPANT;PARTSTAT=ACCEPTED;RSVP=TRUE;CN=CashmanAs
 soc:http://phillytodo.com/profile/CashmanAssoc
END:VEVENT
END:VCALENDAR
