BEGIN:VCALENDAR
PRODID:NingEventWidget-v1
VERSION:2.0
METHOD:PUBLISH
BEGIN:VEVENT
UID:4320450:Event:47111
DTSTAMP:20260425T125020Z
SUMMARY:Believe GayBINGO!
DESCRIPTION:\"Do you believe in life after love?\" - Cher.\nGayBINGO i
 s the fabulous, irreverent, campy, wildly popular monthly event that h
 as been entertaining Philadelphia audiences for 20 years!\n \nCelebra
 ting a different theme each month, hundreds of people pack the hall in
  Center City's Gershman Y for a night of good old-fashioned Bingo! wit
 h a decidedly different twist! GayBINGO is hosted by the infamous Bing
 o Verifying Divas (BVDs!) - a wild bunch of drag queens who entertain 
 the crowd with their wacky humor and always outrageous costumes.\n \n
 GayBINGO promises to be an evening of unbridled fun, complete with rid
 iculous musical numbers, hilarious drag queen antics, chances to win f
 abulous prizes, and much, much more! Reserved seating tickets on the B
 ingo floor are $30. General admission tickets in the balcony are $25. 
 Tickets for GayBINGO are on sale at http://www.aidsfundphilly.org/gayb
 ingo.\n \nGayBINGO was named Best of Philly (Gay Event), won PGN's La
 mbda Award for Best Fundraiser, and was the subject of a popular WHYY 
 documentary.  GayBINGO has also been featured in the LA Times, Washin
 gton Post, and USA Today.  GayBINGO events have raised over $3.5 mill
 ion to date.\n \nTweet this: Come out for 21st Season of @GayBINGOPhi
 lly Have fun & raise $ for HIV/AIDS, tickets: http://bit.ly/1NNcQMt\n\
 nFor more information visit http://phillytodo.com/events/believe-gaybi
 ngo
DTSTART:20170610T230000Z
DTEND:20170611T020000Z
CATEGORIES:lgbt, nonprofit, fundraiser, bingo, gaybingo, aids, fund, d
 rag, queen
LOCATION:The Gershman Y
WEBSITE:http://www.gershmany.org/
URL:http://www.gershmany.org/
CONTACT:215-731-9255
ORGANIZER:Philadelphia AIDS Fund
ATTACH;FMTTYPE="image/jpeg":http://storage.ning.com/topology/rest/1.0/
 file/get/3054997198?profile=original
ATTENDEE;ROLE=REQ-PARTICIPANT;PARTSTAT=ACCEPTED;RSVP=TRUE;CN="Cari Fei
 ler Bender":http://phillytodo.com/profile/CariFeilerBender
END:VEVENT
END:VCALENDAR
