BEGIN:VCALENDAR
PRODID:NingEventWidget-v1
VERSION:2.0
METHOD:PUBLISH
BEGIN:VEVENT
UID:4320450:Event:33229
DTSTAMP:20260425T142615Z
SUMMARY:Belgian Independence Day at Old Eagle Tavern
DESCRIPTION:Old Eagle Tavern celebrates Belgian-inspired beer with Bre
 wery Ommegang. Thursday, July 18 starting at 7pm, Old Eagle Tavern wil
 l feature four Ommegang drafts, all at $1 off.\n\nFor more information
  visit http://phillytodo.com/events/belgian-independence-day-at-old-ea
 gle-tavern
DTSTART:20130718T230000Z
DTEND:20130719T060000Z
CATEGORIES:brewery, of, the, month, night
LOCATION:Old Eagle Tavern
WEBSITE:http://www.oldeagletavern.com
URL:http://www.oldeagletavern.com
CONTACT:215-482-5535
ORGANIZER;CN="Punch Media":http://phillytodo.com/profile/PunchMedia
ATTACH;FMTTYPE="image/jpeg":http://storage.ning.com/topology/rest/1.0/
 file/get/3054966795?profile=original
ATTENDEE;ROLE=REQ-PARTICIPANT;PARTSTAT=ACCEPTED;RSVP=TRUE;CN="Punch Me
 dia":http://phillytodo.com/profile/PunchMedia
END:VEVENT
END:VCALENDAR
