BEGIN:VCALENDAR
PRODID:NingEventWidget-v1
VERSION:2.0
METHOD:PUBLISH
BEGIN:VEVENT
UID:4320450:Event:52917
DTSTAMP:20260425T144722Z
SUMMARY:Beijing’s National Centre for the Performing Arts Orchestra 
 11:00 AM - 11:45 AM, Wednesday, November 1, 2017
DESCRIPTION:Hear a special performance by members of Beijing’s Natio
 nal Centre for the Arts (NCPA) Orchestra, China's premier ensemble and
  the resident orchestra of The Philadelphia Orchestra’s strategic pa
 rtner in China. This pop-up performance at The Shops at Liberty Place 
 will be one of many cultural exchange events celebrating the multi-yea
 r partnership between The Philadelphia Orchestra and NCPA.\n\n\nFor mo
 re information visit http://phillytodo.com/events/beijing-s-national-c
 entre-for-the-performing-arts-orchestra-11-00
DTSTART:20171027T220000Z
DTEND:20171027T230000Z
CATEGORIES:pop-up, orchestra
LOCATION:The Shops at Liberty Place
WEBSITE:https://www.shopsatliberty.com/
URL:https://www.shopsatliberty.com/
CONTACT:215.851.9055
ORGANIZER:The Shops at Liberty Place
ATTACH;FMTTYPE="image/jpeg":http://storage.ning.com/topology/rest/1.0/
 file/get/3055009959?profile=original
ATTENDEE;ROLE=REQ-PARTICIPANT;PARTSTAT=ACCEPTED;RSVP=TRUE;CN="Punch Me
 dia":http://phillytodo.com/profile/PunchMedia
END:VEVENT
END:VCALENDAR
