BEGIN:VCALENDAR
PRODID:NingEventWidget-v1
VERSION:2.0
METHOD:PUBLISH
BEGIN:VEVENT
UID:4320450:Event:941
DTSTAMP:20260425T112536Z
SUMMARY:BEGINNER Ashtanga Yoga Workshop
DESCRIPTION:Beginner Series with DAVID GARRIGUES\nInsight into the Tra
 ditional Ashtanga Yoga Method\nThe workshop will run 2/21 and 3/7 from
  1-5pm\nCost $60 per class or $100 for both. ($70 if paid at the door)
 \n\nThe intention in providing this workshop is to bring a clear under
 standing and awareness towards the Ashtanga methodology as taught by S
 ri K. Pattabhi Jois of Mysore, India. Primary series asana, bandhas, f
 low of breath and philosophy will be covered in TWO parts.\n\nIf you h
 ave never practiced yoga or are interested in learning the Ashtanga Yo
 ga method from the ground up, this is the class for you!\n\nStudents w
 ill receive the BEST education in Philadelphia! David will break down 
 the practice piece by piece allowing students to learn slowly and corr
 ectly! Students of all ages are welcome!\n\nplease email the studio wi
 th questions.\n\nFor more information visit http://phillytodo.com/even
 ts/beginner-ashtanga-yoga
DTSTART:20100221T180000Z
DTEND:20100221T220000Z
CATEGORIES:yoga, workshop, for, beginners, or, those, interested, in, 
 learning, ashtanga
LOCATION:Y2-DY Rittenhouse
WEBSITE:http://www.AshtangaYogaPhiladelphia.com
URL:http://www.AshtangaYogaPhiladelphia.com
CONTACT:info@yogasquared.com
ORGANIZER:Ashtanga Yoga Philadelphia Y2
ATTACH;FMTTYPE="image/jpeg":
ATTENDEE;ROLE=REQ-PARTICIPANT;PARTSTAT=ACCEPTED;RSVP=TRUE;CN="Karen Ha
 rmelin Tropea":http://phillytodo.com/profile/KarenHarmelinTropea
END:VEVENT
END:VCALENDAR
