BEGIN:VCALENDAR
PRODID:NingEventWidget-v1
VERSION:2.0
METHOD:PUBLISH
BEGIN:VEVENT
UID:4320450:Event:2018
DTSTAMP:20260425T175229Z
SUMMARY:Beerfest at the Ballpark to Benefit the Pennsylvania SPCA
DESCRIPTION:What: Beerheads.com presents a fundraiser for the Pennsylv
 ania SPCA featuring beers from more than 20 breweries, food, games, pr
 izes, and Phillies on the big screens at 4:10pm!\n\nWhere: McFadden's 
 at Citizens Bank Park (Pattison Avenue and Citizens Bank Way)\n\nWhen:
  Sunday, August 29th, 2pm to 6pm\nAdoptable dogs and cats will be on s
 ite from 2pm to 4pm\n\nTickets are $40, including a donation to the Pe
 nnsylvania SPCA. For tickets, visit beerheads.com. SAVE $5 on your tic
 ket by entering the code: K9BF at checkout!\n\nFor more information vi
 sit http://phillytodo.com/events/beerfest-at-the-ballpark-to
DTSTART:20100829T180000Z
DTEND:20100829T220000Z
CATEGORIES:fundraiser
LOCATION:Citizens Bank Park
WEBSITE:
URL:
CONTACT:
ORGANIZER:Beerheads.com
ATTACH;FMTTYPE="image/jpeg":http://storage.ning.com/topology/rest/1.0/
 file/get/3054950422?profile=original
ATTENDEE;ROLE=REQ-PARTICIPANT;PARTSTAT=ACCEPTED;RSVP=TRUE;CN="Pennsylv
 ania SPCA":http://phillytodo.com/profile/PennsylvaniaSPCA
END:VEVENT
END:VCALENDAR
