BEGIN:VCALENDAR
PRODID:NingEventWidget-v1
VERSION:2.0
METHOD:PUBLISH
BEGIN:VEVENT
UID:4320450:Event:26813
DTSTAMP:20260425T112408Z
SUMMARY:Beer Week.  Only Better.
DESCRIPTION:Philly Beer Week at America's #1 Gentleman's Club!\nJune 1
 st-10th  Daily Events & Specials all week.\n6/7  Magic Hat  10pm-12
 am\n6/8  Oskar Blues  4pm-9pm\n\nFor more information visit http://p
 hillytodo.com/events/beer-week-only-better
DTSTART:20120607T040000Z
DTEND:20120611T035900Z
CATEGORIES:beer, week, drink, specials
LOCATION:Delilah's Gentleman's Club & Steakhouse
WEBSITE:http://www.delilahs.com
URL:http://www.delilahs.com
CONTACT:215.625.2800 x101
ORGANIZER;CN="Francesca DiDomenico":http://phillytodo.com/profile/Fran
 cescaDiDomenico
ATTACH;FMTTYPE="image/jpeg":http://storage.ning.com/topology/rest/1.0/
 file/get/3054959515?profile=original
ATTENDEE;ROLE=REQ-PARTICIPANT;PARTSTAT=ACCEPTED;RSVP=TRUE;CN="Francesc
 a DiDomenico":http://phillytodo.com/profile/FrancescaDiDomenico
END:VEVENT
END:VCALENDAR
