BEGIN:VCALENDAR
PRODID:NingEventWidget-v1
VERSION:2.0
METHOD:PUBLISH
BEGIN:VEVENT
UID:4320450:Event:45128
DTSTAMP:20260425T124322Z
SUMMARY:Beer Tasting with Woman-Owned Breweries
DESCRIPTION:Enjoy a tasting and conversation with the Philadelphia are
 a’s women in brewing. Moderated by brewing consultant Suzanne O'Brie
 n, the panel will feature Carol Stoudt, founder and owner of Stoudts B
 rewery; Erin Wallace, founder of Barren Hill Brewery; Nancy Rigberg, o
 wner of Home Sweet Home Brew; and Christina Burris, brewer and operati
 ons manager at Saint Benjamin Brewing Company. Light snacks will be in
 cluded to complement the beer selection.\n\nFor more information visit
  http://phillytodo.com/events/beer-tasting-with-woman-owned-breweries
DTSTART:20160303T230000Z
DTEND:20160304T013000Z
CATEGORIES:beer, tasting, womens, history, month
LOCATION:New Century Trust
WEBSITE:http://www.newcenturytrust.org
URL:http://www.newcenturytrust.org
CONTACT:
ORGANIZER:New Century Trust
ATTACH;FMTTYPE="image/jpeg":http://storage.ning.com/topology/rest/1.0/
 file/get/3054994805?profile=original
ATTENDEE;ROLE=REQ-PARTICIPANT;PARTSTAT=ACCEPTED;RSVP=TRUE;CN="Paige Wo
 lf":http://phillytodo.com/profile/PaigeWolf
END:VEVENT
END:VCALENDAR
