BEGIN:VCALENDAR
PRODID:NingEventWidget-v1
VERSION:2.0
METHOD:PUBLISH
BEGIN:VEVENT
UID:4320450:Event:38204
DTSTAMP:20260425T162023Z
SUMMARY:Beer Camp Across America Preview Party
DESCRIPTION:America's favorite craft brewers are collaborating to crea
 te an epic 12-pack with celebrations in a cross-country tour. Join thi
 s preview event in Victory Beer Hall on Wednesday 7/30 from 6-9pm for 
 a sneak peek & samples!\n\nGet your tickets now for Beer Camp Across A
 merica Preview Party! Tickets include 4oz samples of the 12 special cr
 afted brews, food buffet, live music, cornhole, giveaways and more! Ha
 ve a favorite sampling? 12oz pours will be available for purchase for 
 only $6.\n\nBrews included in the 12-pack are:\n-Alt Route: Victory Br
 ewing Company\n-Myron's Walk: Allagash Brewing Company\n-Yvan the Grea
 t:  Russian River Brewing Company\n-Double Latte:  Ninkasi Brewing C
 ompany\n-Torpedo Pilsner: Firestone Walker Brewing Co.-Chico King: 3 F
 loyds Brewing Company\n-Canfusion: Oskar Blues Brewery\n-Yonder Bock: 
 Cigar City Brewing, LLC\n-Maillard's Odyssey: Bell's Brewery, Inc.\n-T
 ater Ridge: Asheville Brewers Alliance\n-There and Back: New Glarus Br
 ewing Company\n-Electric Ray: Ballast Point Brewing Company\n\n\nFor m
 ore information visit http://phillytodo.com/events/beer-camp-across-am
 erica-preview-party
DTSTART:20140730T220000Z
DTEND:20140731T010000Z
CATEGORIES:"beer tasting", "special event"
LOCATION:XFINITY Live! Philadelphia
WEBSITE:http://xfinitylive.com/entertainment/event/2464
URL:http://xfinitylive.com/entertainment/event/2464
CONTACT:267-443-6415
ORGANIZER;CN="Stepfanie McCaffrey":http://phillytodo.com/profile/Stepf
 anieMcCaffrey
ATTACH;FMTTYPE="image/jpeg":http://storage.ning.com/topology/rest/1.0/
 file/get/3054980163?profile=original
ATTENDEE;ROLE=REQ-PARTICIPANT;PARTSTAT=ACCEPTED;RSVP=TRUE;CN="Stepfani
 e McCaffrey":http://phillytodo.com/profile/StepfanieMcCaffrey
END:VEVENT
END:VCALENDAR
