BEGIN:VCALENDAR
PRODID:NingEventWidget-v1
VERSION:2.0
METHOD:PUBLISH
BEGIN:VEVENT
UID:4320450:Event:46755
DTSTAMP:20260425T124851Z
SUMMARY:Beekeeping 101
DESCRIPTION:Whether you are an experienced beekeeper, a new beekeeper,
  or just thinking about starting a backyard beehive, this workshop wil
 l give you through the ins and outs of managing honey bees. Don Shump,
  president of the Philadelphia Beekeepers Guild and Greensgrow’s bee
 keeper, will be on hand to share his years of experience as an apiaris
 t in Philadelphia.  Don will walk you through a beekeeper’s typical
  first year so you know what to expect, and he will tell you what loca
 l resources are available to help you succeed. Plenty of time will be 
 allotted for discussion; please be prepared to ask questions. The clas
 s will touch base on Bee Biology, Bee Behavior, Hive Management, Swarm
 ing, Equipment and Bee Products. - See more at: http://www.greensgrow.
 org/event/beekeeping-101-3/#sthash.6PeCvfCR.dpuf\n\nFor more informati
 on visit http://phillytodo.com/events/beekeeping-101-2
DTSTART:20160917T160000Z
DTEND:20160917T180000Z
CATEGORIES:workshop
LOCATION:Greensgrow Farm
WEBSITE:http://www.greensgrow.org/event/beekeeping-101-3/
URL:http://www.greensgrow.org/event/beekeeping-101-3/
CONTACT:
ORGANIZER;CN="Greensgrow Farms":http://phillytodo.com/profile/Greensgr
 owFarms
ATTACH;FMTTYPE="image/jpeg":http://storage.ning.com/topology/rest/1.0/
 file/get/3054995837?profile=original
ATTENDEE;ROLE=REQ-PARTICIPANT;PARTSTAT=ACCEPTED;RSVP=TRUE;CN="Greensgr
 ow Farms":http://phillytodo.com/profile/GreensgrowFarms
END:VEVENT
END:VCALENDAR
