BEGIN:VCALENDAR
PRODID:NingEventWidget-v1
VERSION:2.0
METHOD:PUBLISH
BEGIN:VEVENT
UID:4320450:Event:41025
DTSTAMP:20260425T144300Z
SUMMARY:Beekeeping 101
DESCRIPTION:http://www.greensgrow.org/event/beekeeping-101-2/\n\nFor m
 ore information visit http://phillytodo.com/events/beekeeping-101-1
DTSTART:20150919T160000Z
DTEND:20150919T180000Z
CATEGORIES:workshop
LOCATION:Greensgrow Farms
WEBSITE:http://www.greensgrow.org/event/beekeeping-101-2/
URL:http://www.greensgrow.org/event/beekeeping-101-2/
CONTACT:2154272702
ORGANIZER;CN="Greensgrow Farms":http://phillytodo.com/profile/Greensgr
 owFarms
ATTACH;FMTTYPE="image/jpeg":
ATTENDEE;ROLE=REQ-PARTICIPANT;PARTSTAT=ACCEPTED;RSVP=TRUE;CN="Greensgr
 ow Farms":http://phillytodo.com/profile/GreensgrowFarms
END:VEVENT
END:VCALENDAR
