BEGIN:VCALENDAR
PRODID:NingEventWidget-v1
VERSION:2.0
METHOD:PUBLISH
BEGIN:VEVENT
UID:4320450:Event:654
DTSTAMP:20260425T143845Z
SUMMARY:Becky James at House Of Cyn!
DESCRIPTION:BECKY JAMES\nis now taking appointments at House Of Cyn!\n
 Haircolor/haircuts\nWed.-Sat.\nAppointment only\nWe are a private stud
 io space in Old City.\n\nFor more information visit http://phillytodo.
 com/events/becky-james-at-house-of-cyn
DTSTART:20100107T160000Z
DTEND:20100107T230000Z
CATEGORIES:salon
LOCATION:House Of Cyn
WEBSITE:
URL:
CONTACT:215680-4504
ORGANIZER;CN="Becky James":http://phillytodo.com/profile/BeckyJames
ATTACH;FMTTYPE="image/jpeg":
ATTENDEE;ROLE=REQ-PARTICIPANT;PARTSTAT=ACCEPTED;RSVP=TRUE;CN="Becky Ja
 mes":http://phillytodo.com/profile/BeckyJames
END:VEVENT
END:VCALENDAR
