BEGIN:VCALENDAR
PRODID:NingEventWidget-v1
VERSION:2.0
METHOD:PUBLISH
BEGIN:VEVENT
UID:4320450:Event:29527
DTSTAMP:20260425T130730Z
SUMMARY:Beauty School Drop-Out GayBINGO!
DESCRIPTION:Grease is the word! This fun event is open to anyone who e
 njoys campy humor. Cash prizes will be awarded in each game.  Tickets
  for GayBINGO are on sale at 215-731-9255.  Reserved Seating tickets 
 on the Bingo floor are $25. General admission tickets in the balcony a
 re $20.  The AIDS Fund grant program supports organizations in the Phi
 ladelphia Region that provide AIDS and HIV-related services, education
 , and prevention including increasing public awareness of HIV/AIDS iss
 ues.\n\nFor more information visit http://phillytodo.com/events/beauty
 -school-drop-out-gaybingo
DTSTART:20130608T220000Z
DTEND:20130609T010000Z
CATEGORIES:bingo, fundraiser, lgbt
LOCATION:The Gershman Y
WEBSITE:http://www.aidsfundphilly.org
URL:http://www.aidsfundphilly.org
CONTACT:215-731-9255
ORGANIZER;CN="Cari Feiler Bender":http://phillytodo.com/profile/CariFe
 ilerBender
ATTACH;FMTTYPE="image/jpeg":http://storage.ning.com/topology/rest/1.0/
 file/get/3054961020?profile=original
ATTENDEE;ROLE=REQ-PARTICIPANT;PARTSTAT=ACCEPTED;RSVP=TRUE;CN="Cari Fei
 ler Bender":http://phillytodo.com/profile/CariFeilerBender
END:VEVENT
END:VCALENDAR
