BEGIN:VCALENDAR
PRODID:NingEventWidget-v1
VERSION:2.0
METHOD:PUBLISH
BEGIN:VEVENT
UID:4320450:Event:49614
DTSTAMP:20260425T114106Z
SUMMARY:Beauty Blitz
DESCRIPTION:\nIt's time to refresh your winter health and beauty routi
 nes with Philadelphia Style Magazine and experts from 3000bc, Heads & 
 Tails Beauty Boutique and ManeStreem App. Get pampered while sipping o
 n specialty cocktails by Boogie Nights at Tropicana Casino & Resort an
 d enjoying a fun photo booth by Cut N' Paste. Plus, create your own ta
 ke-home floral arrangement by UrbanStems.\n\n\n\n\n\nFor more informat
 ion visit http://phillytodo.com/events/beauty-blitz
DTSTART:20170228T220000Z
DTEND:20170301T000000Z
CATEGORIES:beauty, wellness
LOCATION:The Market & Shops at Comcast Center
WEBSITE:http://www.themarketandshopsatcomcastcenter.com
URL:http://www.themarketandshopsatcomcastcenter.com
CONTACT:
ORGANIZER;CN=CashmanAssoc:http://phillytodo.com/profile/CashmanAssoc
ATTACH;FMTTYPE="image/jpeg":http://storage.ning.com/topology/rest/1.0/
 file/get/3055003541?profile=original
ATTENDEE;ROLE=REQ-PARTICIPANT;PARTSTAT=ACCEPTED;RSVP=TRUE;CN=CashmanAs
 soc:http://phillytodo.com/profile/CashmanAssoc
END:VEVENT
END:VCALENDAR
