BEGIN:VCALENDAR
PRODID:NingEventWidget-v1
VERSION:2.0
METHOD:PUBLISH
BEGIN:VEVENT
UID:4320450:Event:55967
DTSTAMP:20260425T142546Z
SUMMARY:Beauty Blitz
DESCRIPTION:On Tuesday October 23, 2018 it’s time to fall in love wi
 th beauty with help from local beauty experts and Professional Makeup 
 Artist & Beauty Influencer, Nauteya Whyee. Enjoy hair styling and a na
 il bar by PRIV, beauty demos by L’Oreal Usa’s La Roche-Posay and C
 erVE, a brow bar and natural beauty samples from LeesBees Naturals.\n
 Get pampered while sipping on specialty cocktails from Ampel Wine and 
 enjoying a fun photo booth by Cut N’ Paste.\nLimited Tickets Availab
 le - $5.00   \n\nFor more information visit http://phillytodo.com/ev
 ents/beauty-blitz-2
DTSTART:20181023T210000Z
DTEND:20181023T230000Z
CATEGORIES:workshop
LOCATION:The Market &amp; Shops at Comcast Center
WEBSITE:https://marketandshops.ticketleap.com/beauty-blitz-fall/
URL:https://marketandshops.ticketleap.com/beauty-blitz-fall/
CONTACT:2156271060
ORGANIZER;CN=CashmanAssoc:http://phillytodo.com/profile/CashmanAssoc
ATTACH;FMTTYPE="image/jpeg":http://storage.ning.com/topology/rest/1.0/
 file/get/3055015573?profile=original
ATTENDEE;ROLE=REQ-PARTICIPANT;PARTSTAT=ACCEPTED;RSVP=TRUE;CN=CashmanAs
 soc:http://phillytodo.com/profile/CashmanAssoc
END:VEVENT
END:VCALENDAR
