BEGIN:VCALENDAR
PRODID:NingEventWidget-v1
VERSION:2.0
METHOD:PUBLISH
BEGIN:VEVENT
UID:4320450:Event:52557
DTSTAMP:20260425T115011Z
SUMMARY:Beauty Blitz
DESCRIPTION:It's time to refresh your fall health and beauty routines 
 with Philadelphia Style Magazine and experts from L'Oréal & La Roche-
 Posay and ManeStreem App. Get pampered while sipping on specialty wine
 s and enjoying a fun photo booth by Cut N' Paste. Plus, create your ow
 n take-home floral arrangement.\nPlease purchase tickets at: https://m
 arketandshops.ticketleap.com/beauty-blitz-at-market--shops/\n\nFor mor
 e information visit http://phillytodo.com/events/beauty-blitz-1
DTSTART:20171024T210000Z
DTEND:20171024T230000Z
CATEGORIES:shopping
LOCATION:Comcast Center's The Market &amp; Shops
WEBSITE:https://marketandshops.ticketleap.com/beauty-blitz-at-market--
 shops/
URL:https://marketandshops.ticketleap.com/beauty-blitz-at-market--shop
 s/
CONTACT:
ORGANIZER;CN=CashmanAssoc:http://phillytodo.com/profile/CashmanAssoc
ATTACH;FMTTYPE="image/jpeg":http://storage.ning.com/topology/rest/1.0/
 file/get/3055009812?profile=original
ATTENDEE;ROLE=REQ-PARTICIPANT;PARTSTAT=ACCEPTED;RSVP=TRUE;CN=CashmanAs
 soc:http://phillytodo.com/profile/CashmanAssoc
END:VEVENT
END:VCALENDAR
