BEGIN:VCALENDAR
PRODID:NingEventWidget-v1
VERSION:2.0
METHOD:PUBLISH
BEGIN:VEVENT
UID:4320450:Event:60423
DTSTAMP:20260425T125623Z
SUMMARY:Be Smarter, Be Wiser, Be More Successful: The Empowerment of W
 isdom Buddha Prajnaparamita
DESCRIPTION:On this day, you will receive the Empowerment of the Great
  Mother, Prajnaparamita. This means you will receive special healing e
 nergy that allows you to overcome all obstacles, outer and inner, in y
 our life.\nPrajnaparamita is a female Buddha who is a manifestation of
  Buddhaâ€™s perfection of wisdom. Wisdom is a virtuous intelligent min
 d whose function is to help us make more healthy, positive, and compas
 sionate actions in our lives. Through these actions, our life will slo
 wly transform into a life of love, peace, and kindness which we can sh
 are with a troubled world\n10:30am â€“ 10:55am: Registration in Louis 
 Kahn Park (across the street) 11:00am â€“ 1:00pm: Empowerment 2:30pm â
 €“ 3:45pm: Commentary\nCost: $60\n\nFor more information visit http://
 phillytodo.com/events/be-smarter-be-wiser-be-more-successful-the-empow
 erment-of-wisdom
DTSTART:20200509T143000Z
DTEND:20200509T194500Z
CATEGORIES:meditation, buddhism, mindfulness, wellness, buddhist
LOCATION:Kadampa Meditation Center Philadelphia
WEBSITE:https://www.meditationinphiladelphia.org/be-smarter-be-wiser-b
 e-more-successful-the-empowerment-of-wisdom-buddha-prajnaparamita-heal
 ing-this-troubled-world-through-wisdom-and-kindness-may-9/
URL:https://www.meditationinphiladelphia.org/be-smarter-be-wiser-be-mo
 re-successful-the-empowerment-of-wisdom-buddha-prajnaparamita-healing-
 this-troubled-world-through-wisdom-and-kindness-may-9/
CONTACT:267-702-3817
ORGANIZER:Kadampa Meditation Center Philadelphia
ATTACH;FMTTYPE="image/jpeg":https://storage.ning.com/topology/rest/1.0
 /file/get/3897623775?profile=original
ATTENDEE;ROLE=REQ-PARTICIPANT;PARTSTAT=ACCEPTED;RSVP=TRUE;CN="Educatio
 n Program Coordinator":http://phillytodo.com/profile/EducationProgramC
 oordinator
END:VEVENT
END:VCALENDAR
