BEGIN:VCALENDAR
PRODID:NingEventWidget-v1
VERSION:2.0
METHOD:PUBLISH
BEGIN:VEVENT
UID:4320450:Event:55123
DTSTAMP:20260425T115628Z
SUMMARY:Be Happy Now: Discover the Power of Meditation - A Free Public
  Talk
DESCRIPTION:In this free public talk, local Buddhist monk Gen Tenzin w
 ill explain the basics of Buddhist meditation and its relevance to mod
 ern life. In particular we will learn how everyone, Buddhist and non-B
 uddhist, can use meditation to overcome mental pain and cultivate inne
 r peace, confidence, contentment, and joy.\nThis free talk will be hos
 ted by Kadampa Meditation Center Philadelphia and held at the Parkway 
 Central Library in Room 108. No cost. Everyone is welcome to attend.\n
 Gen Tenzin is the Resident Teacher of Kadampa Meditation Center Philad
 elphia and a Buddhist monk of over 19 years. He has taught Kadampa Bud
 dhism extensively for over 20 years throughout the United States, has 
 a great depth of understanding of the teachings, and is skillful in hi
 s presentation by sharing them in an entertaining, approachable, and k
 ind-hearted manner.\n\n\nFor more information visit http://phillytodo.
 com/events/be-happy-now-discover-the-power-of-meditation-a-free-public
 -talk
DTSTART:20180516T230000Z
DTEND:20180517T000000Z
CATEGORIES:meditation, buddhism, mindfulness, wellness, buddhist, free
LOCATION:Parkway Central Library
WEBSITE:http://www.meditationinphiladelphia.org/be-happy-now-discover-
 the-power-of-meditation-free-public-talk-at-parkway-central-library-ma
 y-16/
URL:http://www.meditationinphiladelphia.org/be-happy-now-discover-the-
 power-of-meditation-free-public-talk-at-parkway-central-library-may-16
 /
CONTACT:267-702-3817
ORGANIZER:
ATTACH;FMTTYPE="image/jpeg":http://storage.ning.com/topology/rest/1.0/
 file/get/3055015278?profile=original
ATTENDEE;ROLE=REQ-PARTICIPANT;PARTSTAT=ACCEPTED;RSVP=TRUE;CN="Educatio
 n Program Coordinator":http://phillytodo.com/profile/EducationProgramC
 oordinator
END:VEVENT
END:VCALENDAR
