BEGIN:VCALENDAR
PRODID:NingEventWidget-v1
VERSION:2.0
METHOD:PUBLISH
BEGIN:VEVENT
UID:4320450:Event:37301
DTSTAMP:20260425T160943Z
SUMMARY:Bazemore Gallery Presents States of Mind
DESCRIPTION:Celebrated artist Ella Kolanowska will debut a solo exhi
 bition in the United States at The Bazemore Gallery titles “States 
 of Mind”.  Kolanowska’s unique and remarkable artwork is an expl
 oration of our internal and external beings and will run from June 2
 8, to August 2, 2014.\n \n\nFor more information visit http://philly
 todo.com/events/bazemore-gallery-presents-states-of-mind
DTSTART:20140628T040000Z
DTEND:20140803T035900Z
CATEGORIES:art, gallery
LOCATION:Bazemore Gallery
WEBSITE:
URL:
CONTACT:2126270850
ORGANIZER;CN=CashmanAssoc:http://phillytodo.com/profile/CashmanAssoc
ATTACH;FMTTYPE="image/jpeg":http://storage.ning.com/topology/rest/1.0/
 file/get/3054978983?profile=original
ATTENDEE;ROLE=REQ-PARTICIPANT;PARTSTAT=ACCEPTED;RSVP=TRUE;CN=CashmanAs
 soc:http://phillytodo.com/profile/CashmanAssoc
END:VEVENT
END:VCALENDAR
