BEGIN:VCALENDAR
PRODID:NingEventWidget-v1
VERSION:2.0
METHOD:PUBLISH
BEGIN:VEVENT
UID:4320450:Event:7202
DTSTAMP:20260425T142955Z
SUMMARY:Battle of the Bands win $2,500.00 from Guitar Center
DESCRIPTION:REGISTER FOR THE \"ROAD TO ROCK FAME\" - BATTLE OF THE BAN
 DS\"\n\n\n \n \nApril 1-3 2011 at the Greater Philadelphia Conventio
 n Center\n\n\n\n \n \nDirections: To register for the RTRF \"Battle 
 of the Bands\" fill out the form below with your Band Name and Band Ge
 nre (the type of music that your band plays) and pay the non-refundabl
 e $100 entry fee by clicking the pay now button. You will be sent an e
 mail within 24hrs that you can use to attach your band's bio, photo an
 d one mp3 file of a song.\n \nhttp://www.comova.net/roadtorockfame/in
 dex.html\n\n\n\n\n\n\n\n\n\n\n\n\n\n\n\n\n\n\n\n\n\n\n\n\n\n\n\n\n\n\n
 \n\n\nFor more information visit http://phillytodo.com/events/battle-o
 f-the-bands-win-250000
DTSTART:20110401T220000Z
DTEND:20110403T230000Z
CATEGORIES:concert, at, the, mma, and, sports, expo, included, with, t
 icket
LOCATION:Greater Philly Expo Center 100 Station Rd. Oaks PA behind Low
 es
WEBSITE:
URL:
CONTACT:
ORGANIZER;CN="james jefferson":http://phillytodo.com/profile/jamesjeff
 erson
ATTACH;FMTTYPE="image/jpeg":http://storage.ning.com/topology/rest/1.0/
 file/get/3054954356?profile=original
ATTENDEE;ROLE=REQ-PARTICIPANT;PARTSTAT=ACCEPTED;RSVP=TRUE;CN="james je
 fferson":http://phillytodo.com/profile/jamesjefferson
END:VEVENT
END:VCALENDAR
