BEGIN:VCALENDAR
PRODID:NingEventWidget-v1
VERSION:2.0
METHOD:PUBLISH
BEGIN:VEVENT
UID:4320450:Event:33064
DTSTAMP:20260425T124908Z
SUMMARY:Bastille Day at Devil's Den
DESCRIPTION:Devil's Den in South Philly celebrates Bastille Day with $
 1 off all French Drafts. Draft list includes Pietra Amber, Jenlain Blo
 nde, Kronenbourg 1664 Lager and Kronenbourg Blanc, and Saint-Colombe. 
 French brunch specials from Chef Paul Trowbridge include housemade cro
 issants, apple tart, steak au poivre, and omelettes.\n\nFor more infor
 mation visit http://phillytodo.com/events/bastille-day-at-devil-s-den
DTSTART:20130713T143000Z
DTEND:20130714T190000Z
CATEGORIES:bastille, day, party
LOCATION:Devil's Den
WEBSITE:http://www.devilsdenphilly.com
URL:http://www.devilsdenphilly.com
CONTACT:215-339-0855
ORGANIZER;CN="Punch Media":http://phillytodo.com/profile/PunchMedia
ATTACH;FMTTYPE="image/jpeg":http://storage.ning.com/topology/rest/1.0/
 file/get/3054966165?profile=original
ATTENDEE;ROLE=REQ-PARTICIPANT;PARTSTAT=ACCEPTED;RSVP=TRUE;CN="Punch Me
 dia":http://phillytodo.com/profile/PunchMedia
END:VEVENT
END:VCALENDAR
