BEGIN:VCALENDAR
PRODID:NingEventWidget-v1
VERSION:2.0
METHOD:PUBLISH
BEGIN:VEVENT
UID:4320450:Event:34798
DTSTAMP:20260425T142543Z
SUMMARY:Basic Buddhism: A Meditation Class Series
DESCRIPTION:Basic Buddhism\nJanuary 2nd – What Is Buddhism? January 
 9th – How to Understand the Mind January 16th – What Exactly Is Ka
 rma and How Does it Affect Me? January 23rd – Reincarnation: Underst
 anding the Buddhist View of Life, Death, and Rebirth. January 30th –
  Why Do Buddhists Meditate? February 6th – What Is Enlightenment? Fe
 bruary 13th – How Can I Have a Spiritual Life in the Modern World?\n
 Each class is $10.\n\nThese classes will be taught by Gen Tenzin, a we
 stern Buddhist monk and Resident Teacher of Amitayus Kadampa Buddhist 
 Center in Philadelphia.  Each class is self-contained, so everyone is
  welcome to attend any class at any time, even if they have not attend
 ed the other classes in the series.\n\nFor more information visit http
 ://phillytodo.com/events/basic-buddhism-a-meditation-class-series
DTSTART:20140103T000000Z
DTEND:20140103T013000Z
CATEGORIES:meditation, class, buddhism, wellness, spiritual, buddhist
LOCATION:Amitayus Kadampa Buddhist Center
WEBSITE:http://meditationinphiladelphia.org/thursday-evenings/
URL:http://meditationinphiladelphia.org/thursday-evenings/
CONTACT:267-702-4083
ORGANIZER;CN="Education Program Coordinator":http://phillytodo.com/pro
 file/EducationProgramCoordinator
ATTACH;FMTTYPE="image/jpeg":http://storage.ning.com/topology/rest/1.0/
 file/get/3054965638?profile=original
ATTENDEE;ROLE=REQ-PARTICIPANT;PARTSTAT=ACCEPTED;RSVP=TRUE;CN="Educatio
 n Program Coordinator":http://phillytodo.com/profile/EducationProgramC
 oordinator
END:VEVENT
END:VCALENDAR
