BEGIN:VCALENDAR
PRODID:NingEventWidget-v1
VERSION:2.0
METHOD:PUBLISH
BEGIN:VEVENT
UID:4320450:Event:39239
DTSTAMP:20260425T130613Z
SUMMARY:Barra & Bside New Years Vip Party 2015
DESCRIPTION:Come Celebrate the Best Night of the Year- New Years 2015!
 !! Get your tickets TODAY  5 HR OPEN BAR--- Only $55!!!  2 Venues- 3 D
 js, Party Favors & Champagne Toast at Midnight  Dj Spontaine and Dj 8t
 sixed  Breakfast Buffet   BARRA + B SIDE will join together for ONE H
 uge Party on New Years Eve- Get your tickets today  Doors Open at 9pm 
  Wednesday -Dec 31  Call Barra and Bside for tickets or more informati
 on- 215 238-6900/484-388-1300  Tickets: General = $55.00 5 Hour Premiu
 m Open Bar from 9pm-2am Midnight champagne toast 3 DJ Live Performance
  Festive NYE party favors  Vip Table (4 or more people) = $65.00 5 Hou
 r Premium Open Bar from 9pm-2am Midnight champagne toast Live DJ Perfo
 rmance Festive NYE party favors Breakfast Buffet Each Reserved Seated 
 VIP ticket holder shall have a reserved seat for the entire event! VIP
  priority admission by separate VIP line Only persons holding this tic
 ket type may use this reserved seating  Vip Table+Bottle of Champagne(
 4 or more people) = $100.00 5 Hour Premium Open Bar from 9pm-2am Midni
 ght champagne toast Live DJ Performance Festive NYE party favors Break
 fast Buffet Bottle of Champagne for table Each Reserved Seated VIP tic
 ket holder shall have a reserved seat for the entire event! VIP priori
 ty admission by separate VIP line Only persons holding this ticket typ
 e may use this reserved seating Breakfast Buffet\n\nFor more informati
 on visit http://phillytodo.com/events/barra-bside-new-years-vip-party-
 2015
DTSTART:20150101T020000Z
DTEND:20150101T070000Z
CATEGORIES:new, "year's", eve, party
LOCATION:Barra & Bside
WEBSITE:https://barrabsidenye.ticketleap.com/barra--bside-new-years-vi
 p-party-2015/dates/Dec-31-2014_at_0900PM
URL:https://barrabsidenye.ticketleap.com/barra--bside-new-years-vip-pa
 rty-2015/dates/Dec-31-2014_at_0900PM
CONTACT:(484) 388-1300
ORGANIZER;CN="UpcomingEvents.com":http://phillytodo.com/profile/Upcomi
 ngEventscom
ATTACH;FMTTYPE="image/jpeg":http://storage.ning.com/topology/rest/1.0/
 file/get/3054985217?profile=original
ATTENDEE;ROLE=REQ-PARTICIPANT;PARTSTAT=ACCEPTED;RSVP=TRUE;CN="Upcoming
 Events.com":http://phillytodo.com/profile/UpcomingEventscom
END:VEVENT
END:VCALENDAR
