BEGIN:VCALENDAR
PRODID:NingEventWidget-v1
VERSION:2.0
METHOD:PUBLISH
BEGIN:VEVENT
UID:4320450:Event:38664
DTSTAMP:20260425T113351Z
SUMMARY:Barnett's Halloween Party
DESCRIPTION:Barnett’s Halloween Party\nBirthday Party/Fundraiser \n
 Gourmet Buffet\nFree Drink 9-10\nBest Costume Prizes\n50/50, Basket Ra
 ffles and Giveaways\nInformation: (516) 971-1834\n\nTickets $30\nPorti
 on of Proceeds to Benefit Shoot Basketballs Not People\nwww.joinsbnp.o
 rg\n*No tickets sold at door\n\nFor more information visit http://phil
 lytodo.com/events/barnett-s-halloween-party
DTSTART:20141026T010000Z
DTEND:20141026T050000Z
CATEGORIES:birthday, "party/fundraiser"
LOCATION:7165 Lounge
WEBSITE:
URL:
CONTACT:
ORGANIZER:
ATTACH;FMTTYPE="image/jpeg":http://storage.ning.com/topology/rest/1.0/
 file/get/3054980457?profile=original
ATTENDEE;ROLE=REQ-PARTICIPANT;PARTSTAT=ACCEPTED;RSVP=TRUE;CN=CashmanAs
 soc:http://phillytodo.com/profile/CashmanAssoc
END:VEVENT
END:VCALENDAR
