BEGIN:VCALENDAR
PRODID:NingEventWidget-v1
VERSION:2.0
METHOD:PUBLISH
BEGIN:VEVENT
UID:4320450:Event:49111
DTSTAMP:20260425T144752Z
SUMMARY:Barenaked Ladies At Valley Forge Music Fair
DESCRIPTION:Valley Forge Casino Resort (1160 First Avenue) welcomes Ca
 nadian rock band Barenaked Ladies to Valley Forge Music Fair on Saturd
 ay, April 22, 2017. The band is still together after nearly three deca
 des, producing 14 studio albums which have collectively sold more than
  14 million copies, won eight Juno Awards, earned multiple Grammy nomi
 nations, a U.S. chart-topping single (“One Week”) and the theme so
 ng to one of TV’s most popular shows, “The Big Bang Theory.”  D
 oors open of The Event Center at 7:00pm and the show starts at 8:00pm.
  Ticket prices range from $40-$65 and are on sale now at Ticketmaster.
 com.\n\nFor more information visit http://phillytodo.com/events/barena
 ked-ladies-at-valley-forge-music-fair
DTSTART:20170423T000000Z
DTEND:20170423T020000Z
CATEGORIES:concert
LOCATION:Valley Forge Casino Resort
WEBSITE:http://www.ticketmaster.com/event/0200516A90001F0A?camefrom=cf
 c_VFC_WEB#efeat4211
URL:http://www.ticketmaster.com/event/0200516A90001F0A?camefrom=cfc_VF
 C_WEB#efeat4211
CONTACT:610-354-8222
ORGANIZER:Andrew McDonald, Entertainment Manager
ATTACH;FMTTYPE="image/jpeg":http://storage.ning.com/topology/rest/1.0/
 file/get/3055001280?profile=original
ATTENDEE;ROLE=REQ-PARTICIPANT;PARTSTAT=ACCEPTED;RSVP=TRUE;CN="Aversa P
 R & Events":http://phillytodo.com/profile/KoryAversa277
END:VEVENT
END:VCALENDAR
